BEGIN:VCALENDAR
VERSION:2.0
PRODID:-//Volusia Business Resources - ECPv6.14.2//NONSGML v1.0//EN
CALSCALE:GREGORIAN
METHOD:PUBLISH
X-WR-CALNAME:Volusia Business Resources
X-ORIGINAL-URL:https://www.volusiabusinessresources.com
X-WR-CALDESC:Events for Volusia Business Resources
REFRESH-INTERVAL;VALUE=DURATION:PT1H
X-Robots-Tag:noindex
X-PUBLISHED-TTL:PT1H
BEGIN:VTIMEZONE
TZID:US/Eastern
BEGIN:DAYLIGHT
TZOFFSETFROM:-0500
TZOFFSETTO:-0400
TZNAME:EDT
DTSTART:20240310T070000
END:DAYLIGHT
BEGIN:STANDARD
TZOFFSETFROM:-0400
TZOFFSETTO:-0500
TZNAME:EST
DTSTART:20241103T060000
END:STANDARD
END:VTIMEZONE
BEGIN:VEVENT
DTSTART;TZID=US/Eastern:20240402T103000
DTEND;TZID=US/Eastern:20240402T113000
DTSTAMP:20260421T040930
CREATED:20240402T040000Z
LAST-MODIFIED:20240426T002016Z
UID:1489-1712053800-1712057400@www.volusiabusinessresources.com
SUMMARY:OSBP-KSC Virtual Outreach - How to do Business with Jones Edmunds & Associates\, Inc.
DESCRIPTION:How To Do Business with Jones Edmunds & Associates\, Inc. The Jones Edmunds Small Business team will discuss best practices to navigate their supplier process. Join the virtual outreach series focused on NASA Kennedy Space Center Prime Contractors. This hour-long webinar is hosted by the Office of Small Business Programs – Kennedy Space Center. Log-in information will be provided after registration\, within the Eventbrite confirmation. Questions about this event? Contact NASA OSBP-KSC at ksc-smallbusiness@mail.nasa.gov and type “OSBP – KSC Virtual Outreach Question” in the subject line.
URL:https://www.volusiabusinessresources.com/event/osbp-ksc-virtual-outreach-how-to-do-business-with-jones-edmunds-associates-inc/
CATEGORIES:Importing/Exporting,Market Research,Marketing,Research & Development,Strategic Planning
END:VEVENT
END:VCALENDAR