BEGIN:VCALENDAR
VERSION:2.0
PRODID:-//Volusia Business Resources - ECPv6.14.2//NONSGML v1.0//EN
CALSCALE:GREGORIAN
METHOD:PUBLISH
X-WR-CALNAME:Volusia Business Resources
X-ORIGINAL-URL:https://www.volusiabusinessresources.com
X-WR-CALDESC:Events for Volusia Business Resources
REFRESH-INTERVAL;VALUE=DURATION:PT1H
X-Robots-Tag:noindex
X-PUBLISHED-TTL:PT1H
BEGIN:VTIMEZONE
TZID:US/Eastern
BEGIN:DAYLIGHT
TZOFFSETFROM:-0500
TZOFFSETTO:-0400
TZNAME:EDT
DTSTART:20260308T070000
END:DAYLIGHT
BEGIN:STANDARD
TZOFFSETFROM:-0400
TZOFFSETTO:-0500
TZNAME:EST
DTSTART:20261101T060000
END:STANDARD
END:VTIMEZONE
BEGIN:VEVENT
DTSTART;TZID=US/Eastern:20260418T100000
DTEND;TZID=US/Eastern:20260418T160000
DTSTAMP:20260421T041317
CREATED:20260302T212727Z
LAST-MODIFIED:20260302T212727Z
UID:4115-1776506400-1776528000@www.volusiabusinessresources.com
SUMMARY:2026 Hurricane Expo
DESCRIPTION:About the Hurricane Expo\nThe Hurricane Expo is a FREE\, family-friendly event focused on hurricane preparedness\, education\, and emergency readiness. Residents will be able to explore hurricane-related educational exhibits\, learn practical steps to prepare for storms\, and connect with organizations offering products and services that support storm readiness. \nThe Hurricane Expo is hosted by the Volusia County Organizations Active in Disasters (COAD) in partnership with Volusia County Emergency Management. \nWhat attendees will experience\n\nDozens of hurricane-related educational exhibits\nLive safety demonstrations and educational presentations\nGuest speakers\nTouch-A-Truck featuring fire\, EMS\, law enforcement\, and utility vehicles\nFood available for purchase\nGiveaways\n\nDate: Saturday\, April 18 \nTime: 10 a.m. to 4 p.m. \nLocation: Daytona International Speedway Pavilion\n1801 W. International Speedway Blvd.\, Daytona Beach\, FL 32114 \nAdmission: FREE \nHave questions? Email coadvolusia@gmail.com. \n 
URL:https://www.volusiabusinessresources.com/event/2026-hurricane-expo/
LOCATION:Daytona International Speedway Pavilion\, 1801 W. International Speedway Blvd.\, Daytona Beach\, FL\, 32114\, United States
CATEGORIES:Disaster Preparation and Recovery
END:VEVENT
END:VCALENDAR